BEGIN:VCALENDAR
VERSION:2.0
PRODID:-//wp-events-plugin.com//7.2.3.1//EN
TZID:Europe/Warsaw
X-WR-TIMEZONE:Europe/Warsaw
BEGIN:VEVENT
UID:335@zsbi.pl
DTSTART:20220120T150000Z
DTEND:20220120T160000Z
DTSTAMP:20220111T230925Z
URL:https://zsbi.pl/events/zebrania-z-wychowawcami-i-konsultacje-dla-rodzi
 cow/
SUMMARY:Zebrania z wychowawcami i konsultacje dla rodziców
DESCRIPTION:Zebrania z wychowawcami i konsultacje dla rodziców godz. 17:00
  i 17:30 zgodnie z harmonogramem.
END:VEVENT
END:VCALENDAR