BEGIN:VCALENDAR
VERSION:2.0
PRODID:-//wp-events-plugin.com//7.2.3.1//EN
TZID:Europe/Warsaw
X-WR-TIMEZONE:Europe/Warsaw
BEGIN:VEVENT
UID:323@zsbi.pl
DTSTART:20210907T150000Z
DTEND:20210907T154500Z
DTSTAMP:20210906T181107Z
URL:https://zsbi.pl/events/zebrania-z-rodzicami-uczniow-klas-ii-iv/
SUMMARY:Zebrania z rodzicami uczniów klas II- IV
DESCRIPTION:Rodziców uczniów klas II - IV zapraszamy na spotkania z wycho
 wawcami w dniu 7 września 2021r. o godz. 17.00.\n\nSale zostaną wywieszo
 ne na drzwiach wejściowych.
END:VEVENT
END:VCALENDAR