BEGIN:VCALENDAR
VERSION:2.0
PRODID:-//wp-events-plugin.com//7.2.3.1//EN
TZID:Europe/Warsaw
X-WR-TIMEZONE:Europe/Warsaw
BEGIN:VEVENT
UID:265@zsbi.pl
DTSTART;VALUE=DATE:20210430
DTEND;VALUE=DATE:20210501
DTSTAMP:20210318T085815Z
URL:https://zsbi.pl/events/zakonczenie-roku-szkolnego-klas-maturalnych-2/
SUMMARY:Zakończenie roku szkolnego klas maturalnych
DESCRIPTION:
END:VEVENT
END:VCALENDAR