BEGIN:VCALENDAR
VERSION:2.0
PRODID:-//wp-events-plugin.com//7.2.3.1//EN
TZID:Europe/Warsaw
X-WR-TIMEZONE:Europe/Warsaw
BEGIN:VEVENT
UID:367@zsbi.pl
DTSTART:20220623T220000Z
DTEND:20220623T220000Z
DTSTAMP:20220621T144336Z
URL:https://zsbi.pl/events/zakonczenie-roku-szkolnego-2/
SUMMARY:Zakończenie roku szkolnego
DESCRIPTION:
END:VEVENT
END:VCALENDAR