BEGIN:VCALENDAR
VERSION:2.0
PRODID:-//wp-events-plugin.com//7.2.3.1//EN
TZID:Europe/Warsaw
X-WR-TIMEZONE:Europe/Warsaw
BEGIN:VEVENT
UID:266@zsbi.pl
DTSTART:20210331T220000Z
DTEND:20210405T220000Z
DTSTAMP:20210318T091256Z
URL:https://zsbi.pl/events/wiosenna-przerwa-swiateczna-3/
SUMMARY:Wiosenna przerwa świąteczna
DESCRIPTION:
END:VEVENT
END:VCALENDAR