BEGIN:VCALENDAR
VERSION:2.0
PRODID:-//wp-events-plugin.com//7.2.3.1//EN
TZID:Europe/Warsaw
X-WR-TIMEZONE:Europe/Warsaw
BEGIN:VEVENT
UID:187@zsbi.pl
DTSTART;VALUE=DATE:20271224
DTEND;VALUE=DATE:20271226
DTSTAMP:20191020T151559Z
URL:https://zsbi.pl/events/wigilia-bozego-narodzenia-2027-12-24/
SUMMARY:Wigilia Bożego Narodzenia
DESCRIPTION:
END:VEVENT
END:VCALENDAR