BEGIN:VCALENDAR
VERSION:2.0
PRODID:-//wp-events-plugin.com//7.2.3.1//EN
TZID:Europe/Warsaw
X-WR-TIMEZONE:Europe/Warsaw
BEGIN:VEVENT
UID:185@zsbi.pl
DTSTART;VALUE=DATE:20251224
DTEND;VALUE=DATE:20251226
DTSTAMP:20191020T151559Z
URL:https://zsbi.pl/events/wigilia-bozego-narodzenia-2025-12-24/
SUMMARY:Wigilia Bożego Narodzenia
DESCRIPTION:
END:VEVENT
END:VCALENDAR