BEGIN:VCALENDAR
VERSION:2.0
PRODID:-//wp-events-plugin.com//7.2.3.1//EN
TZID:Europe/Warsaw
X-WR-TIMEZONE:Europe/Warsaw
BEGIN:VEVENT
UID:314@zsbi.pl
DTSTART:20210421T220000Z
DTEND:20210421T220000Z
DTSTAMP:20210412T062450Z
URL:https://zsbi.pl/events/termin-ostatecznych-ocen-w-klasach-maturalnych/
SUMMARY:Termin ostatecznych ocen w klasach maturalnych
DESCRIPTION:
END:VEVENT
END:VCALENDAR