BEGIN:VCALENDAR
VERSION:2.0
PRODID:-//wp-events-plugin.com//7.2.3.1//EN
TZID:Europe/Warsaw
X-WR-TIMEZONE:Europe/Warsaw
BEGIN:VEVENT
UID:306@zsbi.pl
DTSTART:20210414T130000Z
DTEND:20210414T133000Z
DTSTAMP:20210412T061529Z
URL:https://zsbi.pl/events/technik-pojazdow-samochodowych-dni-otwarte/
SUMMARY:Technik pojazdów samochodowych- dni otwarte
DESCRIPTION:Środa 15.00-15.30\n\nhttps://zoom.us/j/94325143758?pwd=Wm85NkF
 Wdm1WVXQxMEhOdTdUOUs3Zz09\n\nMeeting ID: 943 2514 3758\n\nPasscode: bGcS5
END:VEVENT
END:VCALENDAR