BEGIN:VCALENDAR
VERSION:2.0
PRODID:-//wp-events-plugin.com//7.2.3.1//EN
TZID:Europe/Warsaw
X-WR-TIMEZONE:Europe/Warsaw
BEGIN:VEVENT
UID:307@zsbi.pl
DTSTART:20210414T073000Z
DTEND:20210414T080000Z
DTSTAMP:20210412T061613Z
URL:https://zsbi.pl/events/technik-mechatronik-dni-otwarte/
SUMMARY:Technik mechatronik- dni otwarte
DESCRIPTION:Środa 09.30-10.00\n\nhttps://zoom.us/j/96599413952?pwd=U1R0ejN
 FRmEyK0JXeGFPd0VyYTR2Zz09\n\nMeeting ID: 965 9941 3952\n\nPasscode: qUBkU0
END:VEVENT
END:VCALENDAR