BEGIN:VCALENDAR
VERSION:2.0
PRODID:-//wp-events-plugin.com//7.2.3.1//EN
TZID:Europe/Warsaw
X-WR-TIMEZONE:Europe/Warsaw
BEGIN:VEVENT
UID:305@zsbi.pl
DTSTART:20210415T074000Z
DTEND:20210415T081000Z
DTSTAMP:20210412T061441Z
URL:https://zsbi.pl/events/technik-informatyk-dni-otwarte/
SUMMARY:Technik informatyk-dni otwarte
DESCRIPTION:Czwartek 9:40 – 10:10\n\nhttps://us04web.zoom.us/j/7828507771
 6…\n\nMeeting ID: 782 8507 7716\n\nPasscode: Zd2u8E
END:VEVENT
END:VCALENDAR