BEGIN:VCALENDAR
VERSION:2.0
PRODID:-//wp-events-plugin.com//7.2.3.1//EN
TZID:Europe/Warsaw
X-WR-TIMEZONE:Europe/Warsaw
BEGIN:VEVENT
UID:311@zsbi.pl
DTSTART:20210414T163000Z
DTEND:20210414T170000Z
DTSTAMP:20210412T062024Z
URL:https://zsbi.pl/events/technik-grafiki-i-poligrafii-cyfrowej-dni-otwar
 te/
SUMMARY:Technik grafiki i poligrafii cyfrowej- dni otwarte
DESCRIPTION:Środa 18.30-19.00\n\nhttps://us04web.zoom.us/j/4936668930?pwd=
 aGFFSk5GUWlrcHh1dFFXSXpFbms0UT09\n\nMeeting ID: 493 666 8930\n\nPasscode: 
 0eBX53
END:VEVENT
END:VCALENDAR