BEGIN:VCALENDAR
VERSION:2.0
PRODID:-//wp-events-plugin.com//7.2.3.1//EN
TZID:Europe/Warsaw
X-WR-TIMEZONE:Europe/Warsaw
BEGIN:VEVENT
UID:304@zsbi.pl
DTSTART:20210412T140000Z
DTEND:20210412T142000Z
DTSTAMP:20210412T061345Z
URL:https://zsbi.pl/events/technik-geodeta/
SUMMARY:Technik geodeta-dni otwarte
DESCRIPTION:Poniedziałek 16.00-16.20\n\nhttps://us05web.zoom.us/j/41955092
 05…\n\nMeeting ID: 419 550 9205\n\nPasscode: 2Zrq1k
END:VEVENT
END:VCALENDAR