BEGIN:VCALENDAR
VERSION:2.0
PRODID:-//wp-events-plugin.com//7.2.3.1//EN
TZID:Europe/Warsaw
X-WR-TIMEZONE:Europe/Warsaw
BEGIN:VEVENT
UID:348@zsbi.pl
DTSTART;VALUE=DATE:20220503
DTEND;VALUE=DATE:20220504
DTSTAMP:20220425T110116Z
URL:https://zsbi.pl/events/swieto-konstytucji-3-maja/
SUMMARY:Święto Konstytucji 3 Maja
DESCRIPTION:
END:VEVENT
END:VCALENDAR