BEGIN:VCALENDAR
VERSION:2.0
PRODID:-//wp-events-plugin.com//7.2.3.1//EN
TZID:Europe/Warsaw
X-WR-TIMEZONE:Europe/Warsaw
BEGIN:VEVENT
UID:345@zsbi.pl
DTSTART;VALUE=DATE:20220418
DTEND;VALUE=DATE:20220419
DTSTAMP:20220404T085418Z
URL:https://zsbi.pl/events/swieta-wielkanocne-2/
SUMMARY:Święta Wielkanocne
DESCRIPTION:
END:VEVENT
END:VCALENDAR