BEGIN:VCALENDAR
VERSION:2.0
PRODID:-//wp-events-plugin.com//7.2.3.1//EN
TZID:Europe/Warsaw
X-WR-TIMEZONE:Europe/Warsaw
BEGIN:VEVENT
UID:341@zsbi.pl
DTSTART;VALUE=DATE:20220325
DTEND;VALUE=DATE:20220326
DTSTAMP:20220307T133922Z
URL:https://zsbi.pl/events/rekolekcje-wielkopostne-7/
SUMMARY:Rekolekcje Wielkopostne
DESCRIPTION:
END:VEVENT
END:VCALENDAR