BEGIN:VCALENDAR
VERSION:2.0
PRODID:-//wp-events-plugin.com//7.2.3.1//EN
TZID:Europe/Warsaw
X-WR-TIMEZONE:Europe/Warsaw
BEGIN:VEVENT
UID:331@zsbi.pl
DTSTART:20220104T220000Z
DTEND:20220104T220000Z
DTSTAMP:20220104T201721Z
URL:https://zsbi.pl/events/probne-matury-pisemne-z-jezyka-polskiego/
SUMMARY:Próbne matury pisemne z języka polskiego
DESCRIPTION:Próbne matury pisemne z języka polskiego dla uczniów klas ma
 turalnych zgodnie z przedstawionym harmonogramem.\n\nUczniowie klas młods
 zych mają lekcje zdalne zgodnie z planem lekcji i zastępstwami.
END:VEVENT
END:VCALENDAR