BEGIN:VCALENDAR
VERSION:2.0
PRODID:-//wp-events-plugin.com//7.2.3.1//EN
TZID:Europe/Warsaw
X-WR-TIMEZONE:Europe/Warsaw
BEGIN:VEVENT
UID:333@zsbi.pl
DTSTART:20220112T060000Z
DTEND:20220112T060000Z
DTSTAMP:20220109T165320Z
URL:https://zsbi.pl/events/probna-matura-z-jezyka-angielskiego-2/
SUMMARY:Próbna matura z języka angielskiego
DESCRIPTION:
END:VEVENT
END:VCALENDAR