BEGIN:VCALENDAR
VERSION:2.0
PRODID:-//wp-events-plugin.com//7.2.3.1//EN
TZID:Europe/Warsaw
X-WR-TIMEZONE:Europe/Warsaw
BEGIN:VEVENT
UID:372@zsbi.pl
DTSTART:20220819T220000Z
DTEND:20220827T215900Z
DTSTAMP:20220821T182421Z
URL:https://zsbi.pl/events/praca-sekretariatu-szkoly/
SUMMARY:Praca Sekretariatu szkoły
DESCRIPTION:SEKRETARIAT SZKOŁY\n\nW związku z kompleksowymi pracami remon
 towymi\nprowadzonymi w Sekretariacie szkoły od 22 - 26 sierpnia br.\npros
 zę ograniczyć załatwianie spraw do niezbędnego minimum.\n\nNie będzie
  możliwości połączenia się z Sekretariatem na numery stacjonarne\,\nd
 latego w celu uzyskania informacji  o możliwości załatwienia sprawy pr
 oszę\nnajpierw zadzwonić pod numer 607 350 433.\n\n&nbsp\;\n\n&nbsp\;
ATTACH;FMTTYPE=image/jpeg:https://zsbi.pl/wp-content/uploads/2022/01/pyl-z
 awieszony2.jpg
END:VEVENT
END:VCALENDAR