BEGIN:VCALENDAR
VERSION:2.0
PRODID:-//wp-events-plugin.com//7.2.3.1//EN
TZID:Europe/Warsaw
X-WR-TIMEZONE:Europe/Warsaw
BEGIN:VEVENT
UID:347@zsbi.pl
DTSTART;VALUE=DATE:20220521
DTEND;VALUE=DATE:20220522
DTSTAMP:20220425T105907Z
URL:https://zsbi.pl/events/odpracowujemy-2-maja/
SUMMARY:odpracowujemy 2 maja
DESCRIPTION:
END:VEVENT
END:VCALENDAR