BEGIN:VCALENDAR
VERSION:2.0
PRODID:-//wp-events-plugin.com//7.2.3.1//EN
TZID:Europe/Warsaw
X-WR-TIMEZONE:Europe/Warsaw
BEGIN:VEVENT
UID:315@zsbi.pl
DTSTART:20210607T220000Z
DTEND:20210608T215900Z
DTSTAMP:20210530T181753Z
URL:https://zsbi.pl/events/oceny-przewidywane/
SUMMARY:Oceny przewidywane na koniec roku szkolnego
DESCRIPTION:Termin wystawienia przewidywanych ocen na koniec roku szkolnego
  2020/ 2021.
END:VEVENT
END:VCALENDAR