BEGIN:VCALENDAR
VERSION:2.0
PRODID:-//wp-events-plugin.com//7.2.3.1//EN
TZID:Europe/Warsaw
X-WR-TIMEZONE:Europe/Warsaw
BEGIN:VEVENT
UID:89@zsbi.pl
DTSTART;VALUE=DATE:20241111
DTEND;VALUE=DATE:20241112
DTSTAMP:20190912T184348Z
URL:https://zsbi.pl/events/narodowe-swieto-niepodleglosci-2024-11-11/
SUMMARY:Narodowe Święto Niepodległości
DESCRIPTION:
END:VEVENT
END:VCALENDAR