BEGIN:VCALENDAR
VERSION:2.0
PRODID:-//wp-events-plugin.com//7.2.3.1//EN
TZID:Europe/Warsaw
X-WR-TIMEZONE:Europe/Warsaw
BEGIN:VEVENT
UID:268@zsbi.pl
DTSTART:20210430T220000Z
DTEND:20210430T220000Z
DTSTAMP:20210318T091443Z
URL:https://zsbi.pl/events/miedzynarodowe-swieto-pracy-2021-05-01/
SUMMARY:Międzynarodowe Święto Pracy
DESCRIPTION:
END:VEVENT
END:VCALENDAR