BEGIN:VCALENDAR
VERSION:2.0
PRODID:-//wp-events-plugin.com//7.2.3.1//EN
TZID:Europe/Warsaw
X-WR-TIMEZONE:Europe/Warsaw
BEGIN:VEVENT
UID:327@zsbi.pl
DTSTART:20211125T150000Z
DTEND:20211125T153000Z
DTSTAMP:20211125T142235Z
URL:https://zsbi.pl/events/konsultacje-dla-rodzicow-2/
SUMMARY:Konsultacje dla rodziców
DESCRIPTION:
END:VEVENT
END:VCALENDAR