BEGIN:VCALENDAR
VERSION:2.0
PRODID:-//wp-events-plugin.com//7.2.3.1//EN
TZID:Europe/Warsaw
X-WR-TIMEZONE:Europe/Warsaw
BEGIN:VEVENT
UID:370@zsbi.pl
DTSTART:20220825T070000Z
DTEND:20220825T100000Z
DTSTAMP:20220908T180052Z
URL:https://zsbi.pl/events/konferencja-plenarna-3/
SUMMARY:Konferencja plenarna
DESCRIPTION:Konferencja plenarna kadry pedagogicznej godz. 9.00
END:VEVENT
END:VCALENDAR