BEGIN:VCALENDAR
VERSION:2.0
PRODID:-//wp-events-plugin.com//7.2.3.1//EN
TZID:Europe/Warsaw
X-WR-TIMEZONE:Europe/Warsaw
BEGIN:VEVENT
UID:322@zsbi.pl
DTSTART:20210830T100000Z
DTEND:20210830T140000Z
DTSTAMP:20210829T200048Z
URL:https://zsbi.pl/events/konferencja-inaugurujacy-nowy-rok-szkolny-2021-
 2022/
SUMMARY:Konferencja RP inaugurująca Nowy Rok Szkolny 2021/2022
DESCRIPTION:Konferencja RP inaugurująca Nowy Rok Szkolny 2021/2022\n\ngodz
 . 12.00 sala 220
END:VEVENT
END:VCALENDAR