BEGIN:VCALENDAR
VERSION:2.0
PRODID:-//wp-events-plugin.com//7.2.3.1//EN
TZID:Europe/Warsaw
X-WR-TIMEZONE:Europe/Warsaw
BEGIN:VEVENT
UID:325@zsbi.pl
DTSTART:20210921T140000Z
DTEND:20210921T160000Z
DTSTAMP:20210918T065608Z
URL:https://zsbi.pl/events/konferencja-5/
SUMMARY:Konferencja Rady Pedagogicznej
DESCRIPTION:
END:VEVENT
END:VCALENDAR