BEGIN:VCALENDAR
VERSION:2.0
PRODID:-//wp-events-plugin.com//7.2.3.1//EN
TZID:Europe/Warsaw
X-WR-TIMEZONE:Europe/Warsaw
BEGIN:VEVENT
UID:336@zsbi.pl
DTSTART:20220213T220000Z
DTEND:20220226T220000Z
DTSTAMP:20220207T132652Z
URL:https://zsbi.pl/events/ferie-zimowe-2/
SUMMARY:Ferie zimowe
DESCRIPTION:
END:VEVENT
END:VCALENDAR