BEGIN:VCALENDAR
VERSION:2.0
PRODID:-//wp-events-plugin.com//7.2.3.1//EN
TZID:Europe/Warsaw
X-WR-TIMEZONE:Europe/Warsaw
BEGIN:VEVENT
UID:361@zsbi.pl
DTSTART:20220622T220000Z
DTEND:20220622T220000Z
DTSTAMP:20220524T071401Z
URL:https://zsbi.pl/events/egzaminy-potwierdzjacekwalifikacje-zwodowe-9/
SUMMARY:Egzaminy potwierdzjącekwalifikacje zwodowe
DESCRIPTION:EE.09
END:VEVENT
END:VCALENDAR