BEGIN:VCALENDAR
VERSION:2.0
PRODID:-//wp-events-plugin.com//7.2.3.1//EN
TZID:Europe/Warsaw
X-WR-TIMEZONE:Europe/Warsaw
BEGIN:VEVENT
UID:360@zsbi.pl
DTSTART:20220619T220000Z
DTEND:20220619T220000Z
DTSTAMP:20220524T071305Z
URL:https://zsbi.pl/events/egzaminy-potwierdzjacekwalifikacje-zwodowe-8/
SUMMARY:Egzaminy potwierdzjącekwalifikacje zwodowe
DESCRIPTION:BD.21\nBD.30\nBD.32\nEE.26\nMG.43\n\n
END:VEVENT
END:VCALENDAR