BEGIN:VCALENDAR
VERSION:2.0
PRODID:-//wp-events-plugin.com//7.2.3.1//EN
TZID:Europe/Warsaw
X-WR-TIMEZONE:Europe/Warsaw
BEGIN:VEVENT
UID:356@zsbi.pl
DTSTART:20220610T220000Z
DTEND:20220610T220000Z
DTSTAMP:20220524T070951Z
URL:https://zsbi.pl/events/egzaminy-potwierdzjacekwalifikacje-zwodowe-4/
SUMMARY:Egzaminy potwierdzjącekwalifikacje zwodowe
DESCRIPTION:ELM.03\n\n
END:VEVENT
END:VCALENDAR