BEGIN:VCALENDAR
VERSION:2.0
PRODID:-//wp-events-plugin.com//7.2.3.1//EN
TZID:Europe/Warsaw
X-WR-TIMEZONE:Europe/Warsaw
BEGIN:VEVENT
UID:363@zsbi.pl
DTSTART;VALUE=DATE:20220628
DTEND;VALUE=DATE:20220629
DTSTAMP:20220524T071631Z
URL:https://zsbi.pl/events/egzaminy-potwierdzjacekwalifikacje-zwodowe-11/
SUMMARY:Egzaminy potwierdzjącekwalifikacje zwodowe
DESCRIPTION:AU.55\nEE.21\n&nbsp\;
END:VEVENT
END:VCALENDAR