BEGIN:VCALENDAR
VERSION:2.0
PRODID:-//wp-events-plugin.com//7.2.3.1//EN
TZID:Europe/Warsaw
X-WR-TIMEZONE:Europe/Warsaw
BEGIN:VEVENT
UID:317@zsbi.pl
DTSTART:20210621T220000Z
DTEND:20210621T220000Z
DTSTAMP:20210530T182316Z
URL:https://zsbi.pl/events/egzaminy-potwierdzajace-kwalifikacje-w-zawodzie
 /
SUMMARY:Egzaminy potwierdzające kwalifikacje w zawodzie.
DESCRIPTION:Dzień wolny od zajęć dydaktyczno-wychowawczych.\n\nKonferenc
 ja klasyfikacyjna na koniec roku szkolnego dla uczniów klas I - III.
END:VEVENT
END:VCALENDAR