BEGIN:VCALENDAR
VERSION:2.0
PRODID:-//wp-events-plugin.com//7.2.3.1//EN
TZID:Europe/Warsaw
X-WR-TIMEZONE:Europe/Warsaw
BEGIN:VEVENT
UID:250@zsbi.pl
DTSTART;VALUE=DATE:20200824
DTEND;VALUE=DATE:20200825
DTSTAMP:20200726T190804Z
URL:https://zsbi.pl/events/egzaminy-poprawkowe/
SUMMARY:Egzaminy poprawkowe
DESCRIPTION:Egzaminy poprawkowe\n\nRozpoczęcie godzina 9.00
END:VEVENT
END:VCALENDAR