BEGIN:VCALENDAR
VERSION:2.0
PRODID:-//wp-events-plugin.com//7.2.3.1//EN
TZID:Europe/Warsaw
X-WR-TIMEZONE:Europe/Warsaw
BEGIN:VEVENT
UID:369@zsbi.pl
DTSTART:20220824T070000Z
DTEND:20220824T100000Z
DTSTAMP:20220818T190700Z
URL:https://zsbi.pl/events/egzaminy-poprawkowe-6/
SUMMARY:Egzaminy poprawkowe
DESCRIPTION:Informacje dla nauczycieli zamieszczone zostały w Teams
END:VEVENT
END:VCALENDAR