BEGIN:VCALENDAR
VERSION:2.0
PRODID:-//wp-events-plugin.com//7.2.3.1//EN
TZID:Europe/Warsaw
X-WR-TIMEZONE:Europe/Warsaw
BEGIN:VEVENT
UID:349@zsbi.pl
DTSTART;VALUE=DATE:20220509
DTEND;VALUE=DATE:20220510
DTSTAMP:20220505T080716Z
URL:https://zsbi.pl/events/egzamin-maturalny-dzien-wolny-dla-pozostalych-u
 czniow/
SUMMARY:Egzamin maturalny- dzień wolny dla pozostałych uczniów
DESCRIPTION:
END:VEVENT
END:VCALENDAR