BEGIN:VCALENDAR
VERSION:2.0
PRODID:-//wp-events-plugin.com//7.2.3.1//EN
TZID:Europe/Warsaw
X-WR-TIMEZONE:Europe/Warsaw
BEGIN:VEVENT
UID:364@zsbi.pl
DTSTART;VALUE=DATE:20220617
DTEND;VALUE=DATE:20220618
DTSTAMP:20220524T150446Z
URL:https://zsbi.pl/events/dzien-wolny-od-zajec-dydaktycznych-2/
SUMMARY:Dzień wolny od zajęć dydaktycznych
DESCRIPTION:
END:VEVENT
END:VCALENDAR