BEGIN:VCALENDAR
VERSION:2.0
PRODID:-//wp-events-plugin.com//7.2.3.1//EN
TZID:Europe/Warsaw
X-WR-TIMEZONE:Europe/Warsaw
BEGIN:VEVENT
UID:316@zsbi.pl
DTSTART:20210603T220000Z
DTEND:20210604T215900Z
DTSTAMP:20210530T181853Z
URL:https://zsbi.pl/events/dzien-wolny-od-zajec-dydaktyczno-wychowawczych-
 2/
SUMMARY:Dzień wolny od zajęć dydaktyczno-wychowawczych
DESCRIPTION:Dzień wolny od zajęć dydaktyczno-wychowawczych.
END:VEVENT
END:VCALENDAR