BEGIN:VCALENDAR
VERSION:2.0
PRODID:-//wp-events-plugin.com//7.2.3.1//EN
TZID:Europe/Warsaw
X-WR-TIMEZONE:Europe/Warsaw
BEGIN:VEVENT
UID:320@zsbi.pl
DTSTART:20210531T220000Z
DTEND:20210531T220000Z
DTSTAMP:20210530T182656Z
URL:https://zsbi.pl/events/dzien-sportu/
SUMMARY:Dzień Sportu
DESCRIPTION:Dzień Sportu z okazji Dnia Dziecka.\nUczniowie biorą udział 
 w rozgrywkach na wesoło zgodnie z harmonogramem.
END:VEVENT
END:VCALENDAR