BEGIN:VCALENDAR
VERSION:2.0
PRODID:-//wp-events-plugin.com//7.2.3.1//EN
TZID:Europe/Warsaw
X-WR-TIMEZONE:Europe/Warsaw
BEGIN:VEVENT
UID:342@zsbi.pl
DTSTART;VALUE=DATE:20220321
DTEND;VALUE=DATE:20220322
DTSTAMP:20220310T183048Z
URL:https://zsbi.pl/events/dzien-otwarty-t1/
SUMMARY:Dzień otwarty T1
DESCRIPTION:
END:VEVENT
END:VCALENDAR