BEGIN:VCALENDAR
VERSION:2.0
PRODID:-//wp-events-plugin.com//7.2.3.1//EN
TZID:Europe/Warsaw
X-WR-TIMEZONE:Europe/Warsaw
BEGIN:VEVENT
UID:22@zsbi.pl
DTSTART;VALUE=DATE:20200526
DTEND;VALUE=DATE:20200528
DTSTAMP:20190817T191701Z
URL:https://zsbi.pl/events/dzien-matki-2020-05-26/
SUMMARY:Dzień Matki
DESCRIPTION:
END:VEVENT
END:VCALENDAR