BEGIN:VCALENDAR
VERSION:2.0
PRODID:-//wp-events-plugin.com//7.2.3.1//EN
TZID:Europe/Warsaw
X-WR-TIMEZONE:Europe/Warsaw
BEGIN:VEVENT
UID:338@zsbi.pl
DTSTART;VALUE=DATE:20220308
DTEND;VALUE=DATE:20220309
DTSTAMP:20220307T133733Z
URL:https://zsbi.pl/events/dzien-kobiet/
SUMMARY:Dzień Kobiet
DESCRIPTION:
END:VEVENT
END:VCALENDAR