BEGIN:VCALENDAR
VERSION:2.0
PRODID:-//wp-events-plugin.com//7.2.3.1//EN
TZID:Europe/Warsaw
X-WR-TIMEZONE:Europe/Warsaw
BEGIN:VEVENT
UID:96@zsbi.pl
DTSTART;VALUE=DATE:20231014
DTEND;VALUE=DATE:20231015
DTSTAMP:20220908T140253Z
URL:https://zsbi.pl/events/dzien-edukacji-narodowej-2023-10-14/
SUMMARY:Dzień Edukacji Narodowej
DESCRIPTION:
END:VEVENT
END:VCALENDAR