BEGIN:VCALENDAR
VERSION:2.0
PRODID:-//wp-events-plugin.com//7.2.3.1//EN
TZID:Europe/Warsaw
X-WR-TIMEZONE:Europe/Warsaw
BEGIN:VEVENT
UID:337@zsbi.pl
DTSTART:20220207T220000Z
DTEND:20220207T220000Z
DTSTAMP:20220207T132737Z
URL:https://zsbi.pl/events/dzien-bezpiecznego-internetu/
SUMMARY:Dzień Bezpiecznego Internetu
DESCRIPTION:
END:VEVENT
END:VCALENDAR