BEGIN:VCALENDAR
VERSION:2.0
PRODID:-//wp-events-plugin.com//7.2.3.1//EN
TZID:Europe/Warsaw
X-WR-TIMEZONE:Europe/Warsaw
BEGIN:VEVENT
UID:355@zsbi.pl
DTSTART:20220609T220000Z
DTEND:20220609T220000Z
DTSTAMP:20220524T070903Z
URL:https://zsbi.pl/events/bud-12/
SUMMARY:Egzaminy potwierdzjącekwalifikacje zwodowe
DESCRIPTION:BUD.12\nMOT.12
END:VEVENT
END:VCALENDAR