BEGIN:VCALENDAR
VERSION:2.0
PRODID:-//wp-events-plugin.com//7.2.3.1//EN
TZID:Europe/Warsaw
X-WR-TIMEZONE:Europe/Warsaw
BEGIN:VEVENT
UID:19@zsbi.pl
DTSTART;VALUE=DATE:20190526
DTEND;VALUE=DATE:20190527
DTSTAMP:20190418T145507Z
URL:https://zsbi.pl/events/dzien-matki/
SUMMARY:Dzień Matki
DESCRIPTION:
END:VEVENT
BEGIN:VEVENT
UID:53@zsbi.pl
DTSTART;VALUE=DATE:20190620
DTEND;VALUE=DATE:20190621
DTSTAMP:20190428T144323Z
URL:https://zsbi.pl/events/boze-cialo/
SUMMARY:Boże Ciało
DESCRIPTION:
END:VEVENT
BEGIN:VEVENT
UID:92@zsbi.pl
DTSTART;VALUE=DATE:20191014
DTEND;VALUE=DATE:20191015
DTSTAMP:20220908T140253Z
URL:https://zsbi.pl/events/dzien-edukacji-narodowej-2019-10-14/
SUMMARY:Dzień Edukacji Narodowej
DESCRIPTION:
END:VEVENT
BEGIN:VEVENT
UID:113@zsbi.pl
DTSTART:20191031T220000Z
DTEND:20191031T220000Z
DTSTAMP:20191020T145838Z
URL:https://zsbi.pl/events/uroczystosc-wszystkich-swietych-2019-11-01/
SUMMARY:Uroczystość Wszystkich Świętych
DESCRIPTION:
END:VEVENT
BEGIN:VEVENT
UID:84@zsbi.pl
DTSTART;VALUE=DATE:20191111
DTEND;VALUE=DATE:20191112
DTSTAMP:20190912T184348Z
URL:https://zsbi.pl/events/narodowe-swieto-niepodleglosci-2019-11-11/
SUMMARY:Narodowe Święto Niepodległości
DESCRIPTION:
END:VEVENT
BEGIN:VEVENT
UID:236@zsbi.pl
DTSTART:20200304T070000Z
DTEND:20200304T083000Z
DTSTAMP:20200205T084450Z
URL:https://zsbi.pl/events/rekolekcje-wielkopostne/
SUMMARY:Rekolekcje wielkopostne
DESCRIPTION:
END:VEVENT
BEGIN:VEVENT
UID:239@zsbi.pl
DTSTART:20200304T070000Z
DTEND:20200304T083000Z
DTSTAMP:20200131T201204Z
URL:https://zsbi.pl/events/rekolekcje-wielkopostne-4/
SUMMARY:Rekolekcje wielkopostne
DESCRIPTION:
END:VEVENT
BEGIN:VEVENT
UID:237@zsbi.pl
DTSTART:20200305T070000Z
DTEND:20200305T083000Z
DTSTAMP:20200131T200943Z
URL:https://zsbi.pl/events/rekolekcje-wielkopostne-2/
SUMMARY:Rekolekcje wielkopostne
DESCRIPTION:
END:VEVENT
BEGIN:VEVENT
UID:238@zsbi.pl
DTSTART:20200306T070000Z
DTEND:20200306T083000Z
DTSTAMP:20200131T201017Z
URL:https://zsbi.pl/events/rekolekcje-wielkopostne-3/
SUMMARY:Rekolekcje wielkopostne
DESCRIPTION:
END:VEVENT
BEGIN:VEVENT
UID:241@zsbi.pl
DTSTART;TZID=Europe/Warsaw;VALUE=DATE:20200325
DTEND;TZID=Europe/Warsaw;VALUE=DATE:20200411
DTSTAMP:20200326T230959Z
URL:https://zsbi.pl/events/nauczanie-zdalne/
SUMMARY:Nauczanie zdalne
DESCRIPTION:
END:VEVENT
BEGIN:VEVENT
UID:108@zsbi.pl
DTSTART;VALUE=DATE:20200331
DTEND;VALUE=DATE:20200401
DTSTAMP:20190916T163023Z
URL:https://zsbi.pl/events/konsultacje-i-wywiadowki/
SUMMARY:Konsultacje i wywiadówki
DESCRIPTION:
END:VEVENT
BEGIN:VEVENT
UID:22@zsbi.pl
DTSTART;VALUE=DATE:20200526
DTEND;VALUE=DATE:20200528
DTSTAMP:20190817T191701Z
URL:https://zsbi.pl/events/dzien-matki-2020-05-26/
SUMMARY:Dzień Matki
DESCRIPTION:
END:VEVENT
BEGIN:VEVENT
UID:243@zsbi.pl
DTSTART;VALUE=DATE:20200611
DTEND;VALUE=DATE:20200612
DTSTAMP:20200501T074304Z
URL:https://zsbi.pl/events/boze-cialo-2/
SUMMARY:Boże Ciało
DESCRIPTION:
END:VEVENT
BEGIN:VEVENT
UID:247@zsbi.pl
DTSTART;VALUE=DATE:20200612
DTEND;VALUE=DATE:20200613
DTSTAMP:20200601T185346Z
URL:https://zsbi.pl/events/dzien-wolny-od-zajec-dydaktyczno-wychowawczych/
SUMMARY:Dzień wolny od zajęć dydaktyczno-wychowawczych
DESCRIPTION:Dzień wolny od zajęć dydaktyczno-wychowawczych
LOCATION:#_LOCATIONNAME\, #_LOCATIONFULLLINE\, #_LOCATIONCOUNTRY
X-APPLE-STRUCTURED-LOCATION;VALUE=URI;X-ADDRESS=#_LOCATIONFULLLINE\, #_LOCA
 TIONCOUNTRY;X-APPLE-RADIUS=100;X-TITLE=#_LOCATIONNAME:geo:0,0
END:VEVENT
BEGIN:VEVENT
UID:81@zsbi.pl
DTSTART;VALUE=DATE:20200615
DTEND;VALUE=DATE:20200616
DTSTAMP:20200530T202619Z
URL:https://zsbi.pl/events/egzamin-maturalny-z-matematyki-poziom-rozszerzo
 ny/
SUMMARY:Egzamin maturalny z matematyki – poziom rozszerzony
DESCRIPTION:Dzień wolny od zajęć dydaktyczno-wychowawczych dla klas I - 
 III.
END:VEVENT
BEGIN:VEVENT
UID:248@zsbi.pl
DTSTART;VALUE=DATE:20200623
DTEND;VALUE=DATE:20200624
DTSTAMP:20200608T132040Z
URL:https://zsbi.pl/events/egzamin-potwierdzajacy-kwalifikacje-w-zawodzie-
 czesc-pisemna-2/
SUMMARY:Egzamin potwierdzający kwalifikacje w zawodzie - część pisemna
DESCRIPTION:Egzamin potwierdzający kwalifikacje w zawodzie - część pise
 mna.\n\nDzień wolny od zajęć dydaktyczno-wychowawczych.
LOCATION:#_LOCATIONNAME\, #_LOCATIONFULLLINE\, #_LOCATIONCOUNTRY
X-APPLE-STRUCTURED-LOCATION;VALUE=URI;X-ADDRESS=#_LOCATIONFULLLINE\, #_LOCA
 TIONCOUNTRY;X-APPLE-RADIUS=100;X-TITLE=#_LOCATIONNAME:geo:0,0
END:VEVENT
BEGIN:VEVENT
UID:246@zsbi.pl
DTSTART:20200624T073000Z
DTEND:20200624T090000Z
DTSTAMP:20200616T094033Z
URL:https://zsbi.pl/events/konferencja-klasyfikacyjna-klas-i-iii/
SUMMARY:Konferencja klasyfikacyjna klas I-III
DESCRIPTION:Konferencja klasyfikacyjna klas I-III
END:VEVENT
BEGIN:VEVENT
UID:240@zsbi.pl
DTSTART;VALUE=DATE:20200626
DTEND;VALUE=DATE:20200627
DTSTAMP:20200224T191903Z
URL:https://zsbi.pl/events/zakonczenie-roku-szkolnego/
SUMMARY:Zakończenie roku szkolnego
DESCRIPTION:
END:VEVENT
BEGIN:VEVENT
UID:249@zsbi.pl
DTSTART:20200626T100000Z
DTEND:20200626T120000Z
DTSTAMP:20200616T100344Z
URL:https://zsbi.pl/events/konferencja-plenarna-rp/
SUMMARY:Konferencja plenarna RP
DESCRIPTION:Konferencja plenarna RP cz. 1 godz. 12.00
LOCATION:#_LOCATIONNAME\, #_LOCATIONFULLLINE\, #_LOCATIONCOUNTRY
X-APPLE-STRUCTURED-LOCATION;VALUE=URI;X-ADDRESS=#_LOCATIONFULLLINE\, #_LOCA
 TIONCOUNTRY;X-APPLE-RADIUS=100;X-TITLE=#_LOCATIONNAME:geo:0,0
END:VEVENT
BEGIN:VEVENT
UID:250@zsbi.pl
DTSTART;VALUE=DATE:20200824
DTEND;VALUE=DATE:20200825
DTSTAMP:20200726T190804Z
URL:https://zsbi.pl/events/egzaminy-poprawkowe/
SUMMARY:Egzaminy poprawkowe
DESCRIPTION:Egzaminy poprawkowe\n\nRozpoczęcie godzina 9.00
END:VEVENT
BEGIN:VEVENT
UID:251@zsbi.pl
DTSTART;VALUE=DATE:20200825
DTEND;VALUE=DATE:20200826
DTSTAMP:20200824T214406Z
URL:https://zsbi.pl/events/egzaminy-poprawkowe-4/
SUMMARY:Egzaminy poprawkowe/ Spotkania zespołów samokształceniowych
DESCRIPTION:Egzaminy poprawkowe z matematyki godzina 9.00\n\n&nbsp\;\n\nSpo
 tkania zespołów samokształceniowych RP godz. 9.00
END:VEVENT
BEGIN:VEVENT
UID:254@zsbi.pl
DTSTART:20200831T070000Z
DTEND:20200831T110000Z
DTSTAMP:20200824T214713Z
URL:https://zsbi.pl/events/konferencja-plenarna-rady-pedagogicznej/
SUMMARY:Konferencja plenarna Rady Pedagogicznej
DESCRIPTION:Konferencja plenarna Rady Pedagogicznej godz. 9.00 - duża sala
  gimnastyczna.\n\nZapraszam
LOCATION:#_LOCATIONNAME\, #_LOCATIONFULLLINE\, #_LOCATIONCOUNTRY
X-APPLE-STRUCTURED-LOCATION;VALUE=URI;X-ADDRESS=#_LOCATIONFULLLINE\, #_LOCA
 TIONCOUNTRY;X-APPLE-RADIUS=100;X-TITLE=#_LOCATIONNAME:geo:0,0
END:VEVENT
BEGIN:VEVENT
UID:256@zsbi.pl
DTSTART;VALUE=DATE:20200901
DTEND;VALUE=DATE:20200902
DTSTAMP:20200829T075741Z
URL:https://zsbi.pl/events/rozpoczecie-roku-szkolnego-2020-2021/
SUMMARY:Rozpoczęcie Roku Szkolnego 2020/2021
DESCRIPTION:
END:VEVENT
BEGIN:VEVENT
UID:259@zsbi.pl
DTSTART:20200914T150500Z
DTEND:20200914T190500Z
DTSTAMP:20200912T122214Z
URL:https://zsbi.pl/events/konferencja-4/
SUMMARY:Konferencja
DESCRIPTION:Konferencja Rady Pedagogicznej godzina 15.05
END:VEVENT
BEGIN:VEVENT
UID:62@zsbi.pl
DTSTART:20200929T180000Z
DTEND:20200929T193000Z
DTSTAMP:20200925T064033Z
URL:https://zsbi.pl/events/konferencja/
SUMMARY:Konferencja
DESCRIPTION:Na Teamsach
END:VEVENT
BEGIN:VEVENT
UID:262@zsbi.pl
DTSTART;VALUE=DATE:20200930
DTEND;VALUE=DATE:20201001
DTSTAMP:20200919T132908Z
URL:https://zsbi.pl/events/dzien-chlopaka-2/
SUMMARY:Dzień Chłopaka
DESCRIPTION:
END:VEVENT
BEGIN:VEVENT
UID:260@zsbi.pl
DTSTART:20201012T000000Z
DTEND:20201012T000000Z
DTSTAMP:20200930T165547Z
URL:https://zsbi.pl/events/dzien-bezpiecznego-komputera/
SUMMARY:Dzień Bezpiecznego Komputera
DESCRIPTION:
END:VEVENT
BEGIN:VEVENT
UID:93@zsbi.pl
DTSTART;VALUE=DATE:20201014
DTEND;VALUE=DATE:20201015
DTSTAMP:20220908T140253Z
URL:https://zsbi.pl/events/dzien-edukacji-narodowej-2020-10-14/
SUMMARY:Dzień Edukacji Narodowej
DESCRIPTION:
END:VEVENT
BEGIN:VEVENT
UID:114@zsbi.pl
DTSTART:20201101T000000Z
DTEND:20201101T000000Z
DTSTAMP:20201002T085728Z
URL:https://zsbi.pl/events/uroczystosc-wszystkich-swietych-2020-11-01/
SUMMARY:Uroczystość Wszystkich Świętych
DESCRIPTION:
END:VEVENT
BEGIN:VEVENT
UID:85@zsbi.pl
DTSTART;VALUE=DATE:20201111
DTEND;VALUE=DATE:20201112
DTSTAMP:20201002T085748Z
URL:https://zsbi.pl/events/narodowe-swieto-niepodleglosci-2020-11-11/
SUMMARY:Narodowe Święto Niepodległości
DESCRIPTION:
END:VEVENT
BEGIN:VEVENT
UID:264@zsbi.pl
DTSTART:20201126T173000Z
DTEND:20201126T180000Z
DTSTAMP:20201125T184530Z
URL:https://zsbi.pl/events/konsultacje-2/
SUMMARY:Konsultacje dla rodziców
DESCRIPTION:
END:VEVENT
BEGIN:VEVENT
UID:180@zsbi.pl
DTSTART;VALUE=DATE:20201224
DTEND;VALUE=DATE:20201225
DTSTAMP:20201002T090028Z
URL:https://zsbi.pl/events/wigilia-bozego-narodzenia-2020-12-24/
SUMMARY:Wigilia Bożego Narodzenia
DESCRIPTION:
END:VEVENT
BEGIN:VEVENT
UID:191@zsbi.pl
DTSTART;VALUE=DATE:20201225
DTEND;VALUE=DATE:20201227
DTSTAMP:20201002T090047Z
URL:https://zsbi.pl/events/swieta-bozego-narodzenia-2020-12-25/
SUMMARY:Święta Bożego Narodzenia
DESCRIPTION:
END:VEVENT
BEGIN:VEVENT
UID:266@zsbi.pl
DTSTART:20210331T220000Z
DTEND:20210405T220000Z
DTSTAMP:20210318T091256Z
URL:https://zsbi.pl/events/wiosenna-przerwa-swiateczna-3/
SUMMARY:Wiosenna przerwa świąteczna
DESCRIPTION:
END:VEVENT
BEGIN:VEVENT
UID:308@zsbi.pl
DTSTART:20210412T100000Z
DTEND:20210412T102000Z
DTSTAMP:20210412T061802Z
URL:https://zsbi.pl/events/dni-otwarte/
SUMMARY:Technik mechatronik- dni otwarte
DESCRIPTION:Poniedziałek 12.00-12.20\n\nhttps://us04web.zoom.us/j/75091607
 039?pwd=RmZNclgrYmpZekkrRnFlNHRNaDFNdz09\n\nMeeting ID: 750 9160 7039\n\nP
 asscode: 0X02RG
END:VEVENT
BEGIN:VEVENT
UID:304@zsbi.pl
DTSTART:20210412T140000Z
DTEND:20210412T142000Z
DTSTAMP:20210412T061345Z
URL:https://zsbi.pl/events/technik-geodeta/
SUMMARY:Technik geodeta-dni otwarte
DESCRIPTION:Poniedziałek 16.00-16.20\n\nhttps://us05web.zoom.us/j/41955092
 05…\n\nMeeting ID: 419 550 9205\n\nPasscode: 2Zrq1k
END:VEVENT
BEGIN:VEVENT
UID:313@zsbi.pl
DTSTART:20210412T143000Z
DTEND:20210412T150000Z
DTSTAMP:20210412T062153Z
URL:https://zsbi.pl/events/technik-elektryk-dni-otwarte-2/
SUMMARY:Technik elektryk- dni otwarte
DESCRIPTION:Poniedziałek 16.30 – 17.00\n\nhttps://zoom.us/j/95051421972
 …\n\nMeeting ID: 950 5142 1972\n\nPasscode: XDB57B
END:VEVENT
BEGIN:VEVENT
UID:303@zsbi.pl
DTSTART:20210412T160000Z
DTEND:20210412T163000Z
DTSTAMP:20210412T061255Z
URL:https://zsbi.pl/events/technik-dekarstwa-robot-wykonczeniowych-i-budow
 nictwa/
SUMMARY:Technik dekarstwa\, robót wykończeniowych i budownictwa-dni otwar
 te
DESCRIPTION:Poniedziałek 18.00-18.30\n\nhttps://us05web.zoom.us/j/47319657
 18?pwd=dmJ0NmZhQU12QWJPVDdKK3o0dlFUUT09\n\nMeeting ID: 473 196 5718\n\nPas
 scode: fesz66
END:VEVENT
BEGIN:VEVENT
UID:309@zsbi.pl
DTSTART:20210413T160000Z
DTEND:20210413T162000Z
DTSTAMP:20210412T061853Z
URL:https://zsbi.pl/events/technik-mechatronik-dni-otwarte-2/
SUMMARY:Technik mechatronik-dni otwarte
DESCRIPTION:Wtorek 18.00.-18.20\n\nhttps://us04web.zoom.us/j/76424636419?pw
 d=dUdCYjhYR3dBWkdGeG52NzNhYWw4QT09\n\nMeeting ID: 764 2463 6419\n\nPasscod
 e: ctefN2\n\n&nbsp\;
END:VEVENT
BEGIN:VEVENT
UID:307@zsbi.pl
DTSTART:20210414T073000Z
DTEND:20210414T080000Z
DTSTAMP:20210412T061613Z
URL:https://zsbi.pl/events/technik-mechatronik-dni-otwarte/
SUMMARY:Technik mechatronik- dni otwarte
DESCRIPTION:Środa 09.30-10.00\n\nhttps://zoom.us/j/96599413952?pwd=U1R0ejN
 FRmEyK0JXeGFPd0VyYTR2Zz09\n\nMeeting ID: 965 9941 3952\n\nPasscode: qUBkU0
END:VEVENT
BEGIN:VEVENT
UID:306@zsbi.pl
DTSTART:20210414T130000Z
DTEND:20210414T133000Z
DTSTAMP:20210412T061529Z
URL:https://zsbi.pl/events/technik-pojazdow-samochodowych-dni-otwarte/
SUMMARY:Technik pojazdów samochodowych- dni otwarte
DESCRIPTION:Środa 15.00-15.30\n\nhttps://zoom.us/j/94325143758?pwd=Wm85NkF
 Wdm1WVXQxMEhOdTdUOUs3Zz09\n\nMeeting ID: 943 2514 3758\n\nPasscode: bGcS5
END:VEVENT
BEGIN:VEVENT
UID:311@zsbi.pl
DTSTART:20210414T163000Z
DTEND:20210414T170000Z
DTSTAMP:20210412T062024Z
URL:https://zsbi.pl/events/technik-grafiki-i-poligrafii-cyfrowej-dni-otwar
 te/
SUMMARY:Technik grafiki i poligrafii cyfrowej- dni otwarte
DESCRIPTION:Środa 18.30-19.00\n\nhttps://us04web.zoom.us/j/4936668930?pwd=
 aGFFSk5GUWlrcHh1dFFXSXpFbms0UT09\n\nMeeting ID: 493 666 8930\n\nPasscode: 
 0eBX53
END:VEVENT
BEGIN:VEVENT
UID:305@zsbi.pl
DTSTART:20210415T074000Z
DTEND:20210415T081000Z
DTSTAMP:20210412T061441Z
URL:https://zsbi.pl/events/technik-informatyk-dni-otwarte/
SUMMARY:Technik informatyk-dni otwarte
DESCRIPTION:Czwartek 9:40 – 10:10\n\nhttps://us04web.zoom.us/j/7828507771
 6…\n\nMeeting ID: 782 8507 7716\n\nPasscode: Zd2u8E
END:VEVENT
BEGIN:VEVENT
UID:310@zsbi.pl
DTSTART:20210415T163000Z
DTEND:20210415T170000Z
DTSTAMP:20210412T061926Z
URL:https://zsbi.pl/events/technik-mechatronik-dni-otwarte-3/
SUMMARY:Technik mechatronik- dni otwarte
DESCRIPTION:Czwartek 18.30 – 19.00\n\nhttps://us04web.zoom.us/j/727666747
 75?pwd=ajNDTXpZRFZkT1dTcm13bHlVL2cyQT09\n\nMeeting ID: 727 6667 4775\n\nPa
 sscode: cnMfd5
END:VEVENT
BEGIN:VEVENT
UID:314@zsbi.pl
DTSTART:20210421T220000Z
DTEND:20210421T220000Z
DTSTAMP:20210412T062450Z
URL:https://zsbi.pl/events/termin-ostatecznych-ocen-w-klasach-maturalnych/
SUMMARY:Termin ostatecznych ocen w klasach maturalnych
DESCRIPTION:
END:VEVENT
BEGIN:VEVENT
UID:302@zsbi.pl
DTSTART:20210426T220000Z
DTEND:20210426T220000Z
DTSTAMP:20210412T060832Z
URL:https://zsbi.pl/events/konferencja-klasyfikacyjna-klas-maturalnych/
SUMMARY:Konferencja klasyfikacyjna klas maturalnych
DESCRIPTION:
END:VEVENT
BEGIN:VEVENT
UID:265@zsbi.pl
DTSTART;VALUE=DATE:20210430
DTEND;VALUE=DATE:20210501
DTSTAMP:20210318T085815Z
URL:https://zsbi.pl/events/zakonczenie-roku-szkolnego-klas-maturalnych-2/
SUMMARY:Zakończenie roku szkolnego klas maturalnych
DESCRIPTION:
END:VEVENT
BEGIN:VEVENT
UID:268@zsbi.pl
DTSTART:20210430T220000Z
DTEND:20210430T220000Z
DTSTAMP:20210318T091443Z
URL:https://zsbi.pl/events/miedzynarodowe-swieto-pracy-2021-05-01/
SUMMARY:Międzynarodowe Święto Pracy
DESCRIPTION:
END:VEVENT
BEGIN:VEVENT
UID:285@zsbi.pl
DTSTART:20210501T220000Z
DTEND:20210501T220000Z
DTSTAMP:20210318T091522Z
URL:https://zsbi.pl/events/dzien-flagi-rp-2021-05-02/
SUMMARY:Dzień Flagi RP
DESCRIPTION:
END:VEVENT
BEGIN:VEVENT
UID:320@zsbi.pl
DTSTART:20210531T220000Z
DTEND:20210531T220000Z
DTSTAMP:20210530T182656Z
URL:https://zsbi.pl/events/dzien-sportu/
SUMMARY:Dzień Sportu
DESCRIPTION:Dzień Sportu z okazji Dnia Dziecka.\nUczniowie biorą udział 
 w rozgrywkach na wesoło zgodnie z harmonogramem.
END:VEVENT
BEGIN:VTIMEZONE
TZID:Europe/Warsaw
X-LIC-LOCATION:Europe/Warsaw
BEGIN:STANDARD
DTSTART:20191027T020000
TZOFFSETFROM:+0200
TZOFFSETTO:+0100
TZNAME:CET
END:STANDARD
BEGIN:DAYLIGHT
DTSTART:20200329T030000
TZOFFSETFROM:+0100
TZOFFSETTO:+0200
TZNAME:CEST
END:DAYLIGHT
END:VTIMEZONE
END:VCALENDAR